BEGIN:VCALENDAR
VERSION:2.0
PRODID:-//Tukios.com/
BEGIN:VEVENT
UID:3e10d98c-7f08-4343-928c-575b7813968e@www.clark-kirkland-barr.com
DTSTAMP:20260422T085750Z
DTSTART:20260420T140000Z
DTEND:20260420T160000Z
SUMMARY:Visitation
DESCRIPTION:
URL:https://www.clark-kirkland-barr.com/obituaries/thomas-phillips
LOCATION: 172 S Main St  Cadiz OH 43907
GEO:40.271837;-80.9978991
END:VEVENT
END:VCALENDAR